BEGIN:VCALENDAR
VERSION:2.0
PRODID:-//185.158.164.61//NONSGML kigkonsult.se iCalcreator 2.20//
CALSCALE:GREGORIAN
METHOD:PUBLISH
X-WR-TIMEZONE:UTC
BEGIN:VEVENT
UID:event1760@Ecoduurzaam, duurzaam leven, groen genieten
DTSTAMP:20260424T213719Z
CATEGORIES:boerenmarkt
DESCRIPTION:❤ Zondag: voorproefje Koningsdag in Park Frankendael\nCategorie
 : boerenmarkt\nLink: https://ecoduurzaam.nl/index.php?option=com_jem&view=
 event&id=1760:❤-zondag-voorproefje-koningsdag-in-park-frankendael\n
DTSTART:20260426T110000Z
DTEND:20260426T160000Z
LOCATION:frankendael amsterdam\,Middenweg 72\,1097 BS  Amsterdam\,Netherlan
 ds
SUMMARY:❤ Zondag: voorproefje Koningsdag in Park Frankendael
END:VEVENT
END:VCALENDAR