BEGIN:VCALENDAR
VERSION:2.0
PRODID:-//185.158.164.61//NONSGML kigkonsult.se iCalcreator 2.20//
CALSCALE:GREGORIAN
METHOD:PUBLISH
X-WR-TIMEZONE:UTC
BEGIN:VEVENT
UID:event1746@Ecoduurzaam, duurzaam leven, groen genieten
DTSTAMP:20260420T185525Z
CATEGORIES:Kledingruil
DESCRIPTION:Vrij markt Nijverdal free fashion\nCategorie: Kledingruil\nLink
 : https://ecoduurzaam.nl/index.php?option=com_jem&view=event&id=1746:vrij-
 markt-nijverdal-free-fashion\n
DTSTART:20260427T090000Z
DTEND:20260427T150000Z
LOCATION:Vrijmarkt Nijverdal\,Grotestraat\,7443 BS Nijverdal
SUMMARY:Vrij markt Nijverdal free fashion
URL:https://ecoduurzaam.nl/index.php?option=com_jem&view=event&id=1746:vrij
 -markt-nijverdal-free-fashion
END:VEVENT
END:VCALENDAR