BEGIN:VCALENDAR
VERSION:2.0
PRODID:-//185.158.164.61//NONSGML kigkonsult.se iCalcreator 2.20//
CALSCALE:GREGORIAN
METHOD:PUBLISH
X-WR-TIMEZONE:UTC
BEGIN:VEVENT
UID:event845@Ecoduurzaam, duurzaam leven, groen genieten
DTSTAMP:20260421T160136Z
CATEGORIES:boerenmarkt
DESCRIPTION: Boerenmarkt Albert Cuyp\nCategorie: boerenmarkt\nLink: https:/
 /ecoduurzaam.nl/index.php?option=com_jem&view=event&id=845:boerenmarkt-alb
 ert-cuyp\n
DTSTART:20260422T090000Z
DTEND:20260422T170000Z
LOCATION: Boerenmarkt Albert Cuyp\,Damrak 77\,1012 LM Amsterdam\,Netherland
 s
SUMMARY: Boerenmarkt Albert Cuyp
URL:https://ecoduurzaam.nl/index.php?option=com_jem&view=event&id=845:boere
 nmarkt-albert-cuyp
END:VEVENT
BEGIN:VEVENT
UID:event859@Ecoduurzaam, duurzaam leven, groen genieten
DTSTAMP:20260421T160136Z
CATEGORIES:boerenmarkt
DESCRIPTION: Boerenmarkt Albert Cuyp\nCategorie: boerenmarkt\nLink: https:/
 /ecoduurzaam.nl/index.php?option=com_jem&view=event&id=859:boerenmarkt-alb
 ert-cuyp\n
DTSTART:20260429T090000Z
DTEND:20260429T170000Z
LOCATION: Boerenmarkt Albert Cuyp\,Damrak 77\,1012 LM Amsterdam\,Netherland
 s
SUMMARY: Boerenmarkt Albert Cuyp
URL:https://ecoduurzaam.nl/index.php?option=com_jem&view=event&id=859:boere
 nmarkt-albert-cuyp
END:VEVENT
BEGIN:VEVENT
UID:event850@Ecoduurzaam, duurzaam leven, groen genieten
DTSTAMP:20260421T160136Z
CATEGORIES:boerenmarkt
DESCRIPTION:Boerenmarkt Den Bosch\nCategorie: boerenmarkt\nLink: https://ec
 oduurzaam.nl/index.php?option=com_jem&view=event&id=850:boerenmarkt-den-bo
 sch\n
DTSTART:20260424T090000Z
DTEND:20260424T130000Z
LOCATION:markt Den Bosch\,markt\,5211 GA  's-Hertogenbosch\,Netherlands
SUMMARY:Boerenmarkt Den Bosch
URL:https://ecoduurzaam.nl/index.php?option=com_jem&view=event&id=850:boere
 nmarkt-den-bosch
END:VEVENT
BEGIN:VEVENT
UID:event851@Ecoduurzaam, duurzaam leven, groen genieten
DTSTAMP:20260421T160136Z
CATEGORIES:boerenmarkt\, biologische markt
DESCRIPTION:Biologische boerenmarkt Utrecht\nCategorie: boerenmarkt\, biolo
 gische markt\nLink: https://ecoduurzaam.nl/index.php?option=com_jem&view=e
 vent&id=851:biologische-boerenmarkt-utrecht\n
DTSTART:20260424T100000Z
DTEND:20260424T170000Z
LOCATION:Vredenburgplein\,Vredenburgplein\,3511 CW  Utrecht\,Netherlands
SUMMARY:Biologische boerenmarkt Utrecht
URL:https://ecoduurzaam.nl/index.php?option=com_jem&view=event&id=851:biolo
 gische-boerenmarkt-utrecht
END:VEVENT
BEGIN:VEVENT
UID:event847@Ecoduurzaam, duurzaam leven, groen genieten
DTSTAMP:20260421T160136Z
CATEGORIES:boerenmarkt\, biologische markt
DESCRIPTION:Boerenmarkt\nCategorie: boerenmarkt\, biologische markt\nLink: 
 https://ecoduurzaam.nl/index.php?option=com_jem&view=event&id=847:boerenma
 rkt\n
DTSTART:20260422T100000Z
DTEND:20260422T180000Z
LOCATION:Lange Voorhout\,Lange Voorhout\,Den Haag\,Netherlands
SUMMARY:Boerenmarkt
URL:https://ecoduurzaam.nl/index.php?option=com_jem&view=event&id=847:boere
 nmarkt
END:VEVENT
BEGIN:VEVENT
UID:event858@Ecoduurzaam, duurzaam leven, groen genieten
DTSTAMP:20260421T160136Z
CATEGORIES:boerenmarkt\, biologische markt
DESCRIPTION:Boerenmarkt\nCategorie: boerenmarkt\, biologische markt\nLink: 
 https://ecoduurzaam.nl/index.php?option=com_jem&view=event&id=858:boerenma
 rkt\n
DTSTART:20260429T100000Z
DTEND:20260429T180000Z
LOCATION:Lange Voorhout\,Lange Voorhout\,Den Haag\,Netherlands
SUMMARY:Boerenmarkt
URL:https://ecoduurzaam.nl/index.php?option=com_jem&view=event&id=858:boere
 nmarkt
END:VEVENT
BEGIN:VEVENT
UID:event852@Ecoduurzaam, duurzaam leven, groen genieten
DTSTAMP:20260421T160136Z
CATEGORIES:boerenmarkt\, biologische markt
DESCRIPTION:Duurzame Weekmarkt Eindhoven\nCategorie: boerenmarkt\, biologis
 che markt\nLink: https://ecoduurzaam.nl/index.php?option=com_jem&view=even
 t&id=852:duurzame-weekmarkt-eindhoven\n
DTSTART:20260425T100000Z
DTEND:20260425T160000Z
LOCATION:Wilhelminaplein Eindhoven\,Wilhelminaplein\,5611 JC Eindhoven\,Net
 herlands
SUMMARY:Duurzame Weekmarkt Eindhoven
URL:https://ecoduurzaam.nl/index.php?option=com_jem&view=event&id=852:duurz
 ame-weekmarkt-eindhoven
END:VEVENT
END:VCALENDAR