BEGIN:VCALENDAR
VERSION:2.0
PRODID:-//185.158.164.61//NONSGML kigkonsult.se iCalcreator 2.20//
CALSCALE:GREGORIAN
METHOD:PUBLISH
X-WR-TIMEZONE:UTC
BEGIN:VEVENT
UID:event1744@Ecoduurzaam, duurzaam leven, groen genieten
DTSTAMP:20260421T003652Z
CATEGORIES:zero waste festival
DESCRIPTION:de eerste Zeeuwse Zero Waste Week! \nCategorie: zero waste fest
 ival\nLink: https://ecoduurzaam.nl/index.php?option=com_jem&view=event&id=
 1744:de-eerste-zeeuwse-zero-waste-week\n
DTSTART;VALUE=DATE:20260420
DTEND;VALUE=DATE:20260427
SUMMARY:de eerste Zeeuwse Zero Waste Week! 
URL:https://ecoduurzaam.nl/index.php?option=com_jem&view=event&id=1744:de-e
 erste-zeeuwse-zero-waste-week
END:VEVENT
BEGIN:VEVENT
UID:event1744@Ecoduurzaam, duurzaam leven, groen genieten
DTSTAMP:20260421T003652Z
CATEGORIES:zero waste festival
DESCRIPTION:de eerste Zeeuwse Zero Waste Week! \nCategorie: zero waste fest
 ival\nLink: https://ecoduurzaam.nl/index.php?option=com_jem&view=event&id=
 1744:de-eerste-zeeuwse-zero-waste-week\n
DTSTART;VALUE=DATE:20260421
DTEND;VALUE=DATE:20260427
SUMMARY:de eerste Zeeuwse Zero Waste Week! 
URL:https://ecoduurzaam.nl/index.php?option=com_jem&view=event&id=1744:de-e
 erste-zeeuwse-zero-waste-week
END:VEVENT
BEGIN:VEVENT
UID:event1744@Ecoduurzaam, duurzaam leven, groen genieten
DTSTAMP:20260421T003652Z
CATEGORIES:zero waste festival
DESCRIPTION:de eerste Zeeuwse Zero Waste Week! \nCategorie: zero waste fest
 ival\nLink: https://ecoduurzaam.nl/index.php?option=com_jem&view=event&id=
 1744:de-eerste-zeeuwse-zero-waste-week\n
DTSTART;VALUE=DATE:20260422
DTEND;VALUE=DATE:20260427
SUMMARY:de eerste Zeeuwse Zero Waste Week! 
URL:https://ecoduurzaam.nl/index.php?option=com_jem&view=event&id=1744:de-e
 erste-zeeuwse-zero-waste-week
END:VEVENT
BEGIN:VEVENT
UID:event1744@Ecoduurzaam, duurzaam leven, groen genieten
DTSTAMP:20260421T003652Z
CATEGORIES:zero waste festival
DESCRIPTION:de eerste Zeeuwse Zero Waste Week! \nCategorie: zero waste fest
 ival\nLink: https://ecoduurzaam.nl/index.php?option=com_jem&view=event&id=
 1744:de-eerste-zeeuwse-zero-waste-week\n
DTSTART;VALUE=DATE:20260423
DTEND;VALUE=DATE:20260427
SUMMARY:de eerste Zeeuwse Zero Waste Week! 
URL:https://ecoduurzaam.nl/index.php?option=com_jem&view=event&id=1744:de-e
 erste-zeeuwse-zero-waste-week
END:VEVENT
BEGIN:VEVENT
UID:event1744@Ecoduurzaam, duurzaam leven, groen genieten
DTSTAMP:20260421T003652Z
CATEGORIES:zero waste festival
DESCRIPTION:de eerste Zeeuwse Zero Waste Week! \nCategorie: zero waste fest
 ival\nLink: https://ecoduurzaam.nl/index.php?option=com_jem&view=event&id=
 1744:de-eerste-zeeuwse-zero-waste-week\n
DTSTART;VALUE=DATE:20260424
DTEND;VALUE=DATE:20260427
SUMMARY:de eerste Zeeuwse Zero Waste Week! 
URL:https://ecoduurzaam.nl/index.php?option=com_jem&view=event&id=1744:de-e
 erste-zeeuwse-zero-waste-week
END:VEVENT
BEGIN:VEVENT
UID:event1744@Ecoduurzaam, duurzaam leven, groen genieten
DTSTAMP:20260421T003652Z
CATEGORIES:zero waste festival
DESCRIPTION:de eerste Zeeuwse Zero Waste Week! \nCategorie: zero waste fest
 ival\nLink: https://ecoduurzaam.nl/index.php?option=com_jem&view=event&id=
 1744:de-eerste-zeeuwse-zero-waste-week\n
DTSTART;VALUE=DATE:20260425
DTEND;VALUE=DATE:20260427
SUMMARY:de eerste Zeeuwse Zero Waste Week! 
URL:https://ecoduurzaam.nl/index.php?option=com_jem&view=event&id=1744:de-e
 erste-zeeuwse-zero-waste-week
END:VEVENT
BEGIN:VEVENT
UID:event1744@Ecoduurzaam, duurzaam leven, groen genieten
DTSTAMP:20260421T003652Z
CATEGORIES:zero waste festival
DESCRIPTION:de eerste Zeeuwse Zero Waste Week! \nCategorie: zero waste fest
 ival\nLink: https://ecoduurzaam.nl/index.php?option=com_jem&view=event&id=
 1744:de-eerste-zeeuwse-zero-waste-week\n
DTSTART;VALUE=DATE:20260426
DTEND;VALUE=DATE:20260427
SUMMARY:de eerste Zeeuwse Zero Waste Week! 
URL:https://ecoduurzaam.nl/index.php?option=com_jem&view=event&id=1744:de-e
 erste-zeeuwse-zero-waste-week
END:VEVENT
END:VCALENDAR